BEGIN:VCALENDAR
VERSION:2.0
PRODID:-//Brett Miller - ECPv6.15.20//NONSGML v1.0//EN
CALSCALE:GREGORIAN
METHOD:PUBLISH
X-WR-CALNAME:Brett Miller
X-ORIGINAL-URL:https://www.brettmillerlive.com
X-WR-CALDESC:Events for Brett Miller
REFRESH-INTERVAL;VALUE=DURATION:PT1H
X-Robots-Tag:noindex
X-PUBLISHED-TTL:PT1H
BEGIN:VTIMEZONE
TZID:America/New_York
BEGIN:DAYLIGHT
TZOFFSETFROM:-0500
TZOFFSETTO:-0400
TZNAME:EDT
DTSTART:20210314T070000
END:DAYLIGHT
BEGIN:STANDARD
TZOFFSETFROM:-0400
TZOFFSETTO:-0500
TZNAME:EST
DTSTART:20211107T060000
END:STANDARD
BEGIN:DAYLIGHT
TZOFFSETFROM:-0500
TZOFFSETTO:-0400
TZNAME:EDT
DTSTART:20220313T070000
END:DAYLIGHT
BEGIN:STANDARD
TZOFFSETFROM:-0400
TZOFFSETTO:-0500
TZNAME:EST
DTSTART:20221106T060000
END:STANDARD
BEGIN:DAYLIGHT
TZOFFSETFROM:-0500
TZOFFSETTO:-0400
TZNAME:EDT
DTSTART:20230312T070000
END:DAYLIGHT
BEGIN:STANDARD
TZOFFSETFROM:-0400
TZOFFSETTO:-0500
TZNAME:EST
DTSTART:20231105T060000
END:STANDARD
END:VTIMEZONE
BEGIN:VEVENT
DTSTART;TZID=America/New_York:20221015T183000
DTEND;TZID=America/New_York:20221015T223000
DTSTAMP:20260419T235453
CREATED:20221005T011207Z
LAST-MODIFIED:20221005T013336Z
UID:13694-1665858600-1665873000@www.brettmillerlive.com
SUMMARY:Mastro's Ocean Club
DESCRIPTION:Brett Miller will be singing and playing piano at Mastro’s Ocean Club in Ft. Lauderdale\, from 6:30-10:30pm. Come by for some great food\, great music\, and a great time!
URL:https://www.brettmillerlive.com/showdates/mastros-ocean-club-10-15-22/
LOCATION:Mastro’s Ocean Club\, 3000 NE 32nd Ave\, Fort Lauderdale\, FL\, 33308
ATTACH;FMTTYPE=image/jpeg:https://www.brettmillerlive.com/wp-content/uploads/2022/10/mastros_Fort-Lauderdale-e1664932269684.jpeg
END:VEVENT
BEGIN:VEVENT
DTSTART;TZID=America/New_York:20221015T120000
DTEND;TZID=America/New_York:20221015T160000
DTSTAMP:20260419T235453
CREATED:20221005T023451Z
LAST-MODIFIED:20221005T023543Z
UID:13724-1665835200-1665849600@www.brettmillerlive.com
SUMMARY:The Flamingo Flea
DESCRIPTION:Brett Miller will be singing and playing keys for the Flamingo Flea taking place at Crazy Uncle Mike’s in Boca Raton\, FL\, from 12-4pm EST. Come explore the shops\, music\, and food
URL:https://www.brettmillerlive.com/showdates/the-flamingo-flea-10-15-22/
LOCATION:Crazy Uncle Mike’s\, 6450 N Federal Hwy\, Boca Raton\, 33487
ATTACH;FMTTYPE=image/jpeg:https://www.brettmillerlive.com/wp-content/uploads/2022/10/flamingoflea.jpeg
ORGANIZER;CN="The Flamingo Flea":MAILTO:Carleysuzann@gmail.com
END:VEVENT
BEGIN:VEVENT
DTSTART;TZID=America/New_York:20221014T190000
DTEND;TZID=America/New_York:20221014T220000
DTSTAMP:20260419T235453
CREATED:20221005T012616Z
LAST-MODIFIED:20221005T013343Z
UID:13702-1665774000-1665784800@www.brettmillerlive.com
SUMMARY:Macabi Havana Lounge
DESCRIPTION:Brett Miller will be singing and playing piano at Macabi Havana Lounge on Las Olas Blvd. in Fort Lauderdale\, FL\, from 7-10pm EST. Come by for quality cigar\, quality music\, and a quality time!
URL:https://www.brettmillerlive.com/showdates/macabi-havana-lounge-10-14-22/
LOCATION:Macabi Havana Lounge\, 1219 E Las Olas Blvd\, Fort Lauderdale\, FL\, 33301\, United States
ATTACH;FMTTYPE=image/jpeg:https://www.brettmillerlive.com/wp-content/uploads/2022/10/macabi_havana_lounge.jpeg
END:VEVENT
END:VCALENDAR